BEGIN:VCALENDAR
VERSION:2.0
PRODID:-//wp-events-plugin.com//6.6.3//EN
TZID:Europe/Paris
X-WR-TIMEZONE:Europe/Paris
BEGIN:VEVENT
UID:255@somme.fr
DTSTART;TZID=Europe/Paris:20260913T140000
DTEND;TZID=Europe/Paris:20260913T150000
DTSTAMP:20260413T133310Z
URL:https://www.somme.fr/events/spectacle-ens-corbie/
SUMMARY:Spectacle ENS Corbie
DESCRIPTION:\n\n\n\n\n\n\n\n\n\n\n\n\n\n\n\n\n\n\n\n\n\n\n\n\n\n\n\n\n\n\n\
 n\n\n\n\n\n\n\n\n\n\n\nPar la Compagnie Bécots les Coeurs\nL’ornithoép
 istogrammologie\, ou plus communément appelé l’Ornithopostalogie\, dé
 signe la science des messages adressés entre les oiseaux et les êtres hu
 mains. Convaincus que les oiseaux sont la meilleure alternative à la 5G\,
  une équipe d’expert.e.s a développé l’incroyable faculté de savoi
 r communiquer avec les volatiles de toutes espèces. Voulant se servir de 
 leur talent à bon escient\, cette brigade de têtes en l’air vous invit
 e à leur transmettre vos messages pourvu qu’ils contribuent à faire av
 ancer le monde ensemble.\nPetites annonces ou grandes réflexions prises d
 e bec ou cancaneries\, ces missives recueillies auprès du public seront l
 ues haut et fort lors de la Criée afin d’être transmises aux bêtes à
  plumes pour les répandre sur le globe. L’occasion pour notre équipe d
 e vous sensibiliser à cette science prometteuse à travers des intermède
 s scientifico-farfelus…À vos belles plumes pour une aventure de haut vo
 l !\nAdresse : parking de la falaise Sainte-Colette\, sur la RD1\nPublic 
 : tout public à partir de 3 ans\nHoraires : 14h (durée : 1h)\nAccès sur
  réservation dans la limite des places disponibles\, via le formulaire ci
 -dessous uniquement.--IMPORTANT : Une fois votre réservation effectuée\,
  vous recevrez un mail de confirmation\, à présenter sur place pour acc
 éder au site.--En cas d'annulation/modification de la réservation : merc
 i de répondre au mail de confirmation reçu.Pour toute question : contact
 @somme.fr\n&nbsp\;
ATTACH;FMTTYPE=image/jpeg:https://www.somme.fr/wp-content/uploads/SITE-INT
 ERNET/Actualite/ornithopostologie.jpg
CATEGORIES:Saison culturelle
LOCATION:ENS de la Falaise Sainte-Colette des Étangs de la Barette\, Étan
 gs de la Barette  Parking de la falaise Sainte-Colette\, sur la RD1\, Corb
 ie\, 80800\, Hauts-de-France\, France
X-APPLE-STRUCTURED-LOCATION;VALUE=URI;X-ADDRESS=Étangs de la Barette  Park
 ing de la falaise Sainte-Colette\, sur la RD1\, Corbie\, 80800\, Hauts-de-
 France\, France;X-APPLE-RADIUS=100;X-TITLE=ENS de la Falaise Sainte-Colett
 e des Étangs de la Barette:geo:0,0
END:VEVENT
BEGIN:VTIMEZONE
TZID:Europe/Paris
X-LIC-LOCATION:Europe/Paris
BEGIN:DAYLIGHT
DTSTART:20260329T030000
TZOFFSETFROM:+0100
TZOFFSETTO:+0200
TZNAME:CEST
END:DAYLIGHT
END:VTIMEZONE
END:VCALENDAR