BEGIN:VCALENDAR
VERSION:2.0
PRODID:-//wp-events-plugin.com//6.6.3//EN
TZID:Europe/Paris
X-WR-TIMEZONE:Europe/Paris
BEGIN:VEVENT
UID:256@somme.fr
DTSTART;TZID=Europe/Paris:20260617T140000
DTEND;TZID=Europe/Paris:20260617T160000
DTSTAMP:20260310T153839Z
URL:https://www.somme.fr/events/spectacle-ens-clery/
SUMMARY:Spectacle ENS Cléry
DESCRIPTION:\n\n\n\n\n\n\n\n\n\n\n\n\n\n\n\n\n\n\n\n\n\n\n\n\n\n\n\n\n\n\n\
 n\n\n\n\n\n\n\n\n\n\n\n\n\n"Balade féérique" est un spectacle en déambu
 lation qui invite à une randonnée-spectacle sensible et poétique au cou
 rs de laquelle les spectateurs deviennent promeneurs\, explorateurs d’un
  paysage qui se dévoile autrement\, à hauteur de pas et de regard. Au fi
 l du chemin\, la faune et la flore locales prennent vie grâce à des inte
 rventions artistiques discrètes et surprenantes donnant ainsi la parole a
 ux arbres\, évoquant les récits des animaux\, et laissant la place à de
 s apparitions éphémères et féeriques. \nEn mêlant création artistiq
 ue et immersion en pleine nature\, cette expérience culturelle réenchant
 e les paysages et invite à tisser un lien sensible et respectueux avec l
 ’environnement sans oublier une part de divertissement et de curiosité.
  De nombreux personnages féeriques liés à la nature confieront leurs se
 crets aux courageux promeneurs... une balade qui promet surprises et encha
 ntements.\nAdresse : Parking du parcours de découverte des oiseaux\, rue
  Anne-Marie Vion à Cléry-sur-Somme\nPublic : tout public à partir de 5 
 ans\nHoraires : 14h (durée : 1h45 à 2h)\nAccès sur réservation dans la
  limite des places disponibles\, via le formulaire ci-dessous uniquement.-
 -IMPORTANT : Une fois votre réservation effectuée\, vous recevrez un mai
 l de confirmation\, à présenter sur place pour accéder au site.--En cas
  d'annulation/modification de la réservation : merci de répondre au mail
  de confirmation reçu.Pour toute question : contact@somme.fr\n&nbsp\;
ATTACH;FMTTYPE=image/jpeg:https://www.somme.fr/wp-content/uploads/SITE-INT
 ERNET/Actualite/balade-feerique.jpg
CATEGORIES:Saison culturelle
LOCATION:ENS des Étangs de Cléry-sur-Somme\, Parking du parcours de déco
 uverte des oiseaux\, rue Anne-Marie Vion\, Cléry-sur-Somme\, 80200\, Haut
 s-de-France\, France
X-APPLE-STRUCTURED-LOCATION;VALUE=URI;X-ADDRESS=Parking du parcours de déc
 ouverte des oiseaux\, rue Anne-Marie Vion\, Cléry-sur-Somme\, 80200\, Hau
 ts-de-France\, France;X-APPLE-RADIUS=100;X-TITLE=ENS des Étangs de Cléry
 -sur-Somme:geo:0,0
END:VEVENT
BEGIN:VTIMEZONE
TZID:Europe/Paris
X-LIC-LOCATION:Europe/Paris
BEGIN:DAYLIGHT
DTSTART:20260329T030000
TZOFFSETFROM:+0100
TZOFFSETTO:+0200
TZNAME:CEST
END:DAYLIGHT
END:VTIMEZONE
END:VCALENDAR