BEGIN:VCALENDAR
VERSION:2.0
PRODID:-//wp-events-plugin.com//6.6.3//EN
TZID:Europe/Paris
X-WR-TIMEZONE:Europe/Paris
BEGIN:VEVENT
UID:205@somme.fr
DTSTART;TZID=Europe/Paris:20260329T100000
DTEND;TZID=Europe/Paris:20260329T163000
DTSTAMP:20260305T142726Z
URL:https://www.somme.fr/events/mupar/
SUMMARY:Musée Antoine Augustin Parmentier - MUPAR
DESCRIPTION:\n\n\n\n\n\n\n\n\n\n\n\n\n\n\n\n\n\n\n\n\n\n\n\n\n\n\n\n\n\n\n\
 n\n\n\n\n\n\n\n\n\n\n\nA l'époque carolingienne le Conte de Montdidier ha
 bitait en cet endroit. Au XVI siècle\, ce lieu fut occupé par des repré
 sentants des corps judiciaires puis en 1800 la salle d'audience devient ce
 lle du parquet du Procureur de la République. Détruit lors de la Premiè
 re Guerre mondiale\, il est reconstruit en 1930 en style néo-gothique et 
 reste un tribunal jusqu'en 1961. De 1965 à 2023 il est utilisé en Centre
  des impôts.Une fois libéré de ses occupants\, le projet de faire du Pr
 ieuré un musée à vocations multiples a pris forme. Des travaux conséqu
 ents ont été entrepris tout en conservant l'âme originelle du bâtiment
 .Le Printemps du Département est donc l'occasion de faire découvrir en p
 artie cet équipement avant son ouverture officielle lorsque toutes ses sa
 lles seront aménagées.Vous pourrez découvrir à cette occasion l'escali
 er monumental\, son ascenseur panoramique\, sa salle d'accueil et son bist
 rot ayant une vue exceptionnelle sur Montdidier.\nAccueil café avec prés
 entation des travaux réalisés sur cette partie ouverte au public et pré
 sentation du projet de développement culturel du futur site.\nAdresse : 1
 1 rue Saint-Pierre 80500 Montdidier\nAccessibilité : PMR\nPublic : famill
 es\nHoraires : 10h-12h / 14h-16h30\nVisite libre.\n&nbsp\;
ATTACH;FMTTYPE=image/jpeg:https://www.somme.fr/wp-content/uploads/SITE-INT
 ERNET/Actualite/20260119_133300-1_page-0001.jpg
CATEGORIES:Musées,Printemps du Département
LOCATION:MUPAR\, 11 rue Saint-Pierre\, Montdidier\, 80500\, France
X-APPLE-STRUCTURED-LOCATION;VALUE=URI;X-ADDRESS=11 rue Saint-Pierre\, Montd
 idier\, 80500\, France;X-APPLE-RADIUS=100;X-TITLE=MUPAR:geo:0,0
END:VEVENT
BEGIN:VTIMEZONE
TZID:Europe/Paris
X-LIC-LOCATION:Europe/Paris
BEGIN:DAYLIGHT
DTSTART:20260329T030000
TZOFFSETFROM:+0100
TZOFFSETTO:+0200
TZNAME:CEST
END:DAYLIGHT
END:VTIMEZONE
END:VCALENDAR