BEGIN:VCALENDAR
VERSION:2.0
PRODID:-//wp-events-plugin.com//6.6.3//EN
TZID:Europe/Paris
X-WR-TIMEZONE:Europe/Paris
BEGIN:VEVENT
UID:143@somme.fr
DTSTART;TZID=Europe/Paris:20260329T093000
DTEND;TZID=Europe/Paris:20260329T170000
DTSTAMP:20260309T085609Z
URL:https://www.somme.fr/events/historial-de-la-grande-guerre-2/
SUMMARY:Historial de la Grande Guerre
DESCRIPTION:\n\n\n\n\n\n\n\n\n\n\n\n\n\n\n\n\n\n\n\n\n\n\n\n\n\n\n\n\n\n\n\
 n\n\n\n\n\n\n\n\n\n\n&nbsp\;\n\nSitué au cœur de la ville de Péronne\, 
 l’Historial de la Grande Guerre est le premier musée international à p
 roposer une vision croisée des nations engagées dans le conflit. Découv
 rez une collection unique d’objets et de documents\, témoignages du quo
 tidien d’hommes et de femmes\, de soldats et de civils\, au front comme 
 à l’arrière. Par sa dimension universelle et humaniste\, le musée est
  le point de départ idéal du Circuit du souvenir du département et de l
 a découverte des onze sites inscrits au Patrimoine mondial de l’UNESCO.
 \n \nAu-delà des combats\, la vie dans les tranchées est rythmée par d
 e longs temps d’attente. Pour faire face à l’épreuve\, les soldats d
 éveloppent diverses pratiques de loisirs : jeux\, musique\, créations 
 artisanales ou activités sportives.\nTout au long de la journée\, venez 
 découvrir grâce aux visites et animations cet autre aspect du quotidien 
 des combattants. \n \n\n- Visite guidée thématique de l'exposition tem
 poraire Déflagration - à 10h (durée : 45 min)  \n \n- Visite guidée
  des collections de l'exposition permanente - à 11h (durée : 1h) - Point
  de rendez-vous : borne d'accueil\n \n- Visite guidée thématique "Se di
 vertir dans les tranchées : une autre facette du quotidien des soldats" -
  à 14h (durée : 45 minutes) - Point de rendez-vous : borne d'accueil\n 
 \n- Visite guidée thématique des collections de l'exposition permanente 
 à 15h30 (durée : 45 minutes) - Point de rendez-vous : borne d'accueil\n
  \n- Toute la journée\, Caroline Fontaine\, directrice du Centre interna
 tionale de Recherche\, présentera les missions du Centre ainsi qu’un ob
 jet de l’exposition permanente. \n \n\n- Toute la journée\, au sein d
 u café culture\, plusieurs espaces immersifs inviteront les visiteurs à 
 découvrir les loisirs et les moments du quotidien\, dans les tranchées c
 omme à l’arrière. Jeux de cartes pour « oublier »\, écriture de
  lettres à la famille ou découverte des journaux de tranchées : autant 
 d’expériences accompagnées d’explications thématiques permettant à
  chacun de se glisser\, le temps d’un instant\, dans la peau d’un sold
 at ou de ses proches pendant la Première Guerre mondiale. \n \n\n\n- To
 ute la journée\, sur demande auprès du service accueil : Livrets d’act
 ivité Jeune public \; Valises de médiation \; Exposition jeu à faire en
  famille "Se divertir dans les tranchées : une autre facette du quotidien
  des soldats"\n\n \n\n--\nAdresses : Musée de Péronne – Château de P
 éronne – Place André Audinot – 80200 PÉRONNE Centre d'interprétati
 on de Thiepval – 8 rue de l’Ancre – 80300 THIEPVAL\nPublic : famille
 s\nHoraires : 9h30-17h pour le musée de Péronne\, 9h30-18h pour le centr
 e d'interprétation et musée de Thiepval\nAccessibilité : PMR\, handica
 p visuel\, auditif\nSite web : historial.fr\nAccès libre aux 2 musées.
  Accès aux visites guidées sur réservation au 03 22 83 14 18 ou histori
 al@somme.fr\n&nbsp\;
ATTACH;FMTTYPE=image/jpeg:https://www.somme.fr/wp-content/uploads/SITE-INT
 ERNET/Actualite/Historial-de-la-Grande-Guerre-©A.jpg
CATEGORIES:Grande Guerre,Printemps du Département
LOCATION:Historial de la Grande Guerre - Musée de Péronne – Château de
  Péronne\, Place André Audinot\, Péronne\, 80200\, Hauts-de-France\, Fr
 ance
X-APPLE-STRUCTURED-LOCATION;VALUE=URI;X-ADDRESS=Place André Audinot\, Pér
 onne\, 80200\, Hauts-de-France\, France;X-APPLE-RADIUS=100;X-TITLE=Histori
 al de la Grande Guerre - Musée de Péronne – Château de Péronne:geo:0
 ,0
END:VEVENT
BEGIN:VTIMEZONE
TZID:Europe/Paris
X-LIC-LOCATION:Europe/Paris
BEGIN:DAYLIGHT
DTSTART:20260329T030000
TZOFFSETFROM:+0100
TZOFFSETTO:+0200
TZNAME:CEST
END:DAYLIGHT
END:VTIMEZONE
END:VCALENDAR