BEGIN:VCALENDAR
VERSION:2.0
PRODID:-//wp-events-plugin.com//6.6.3//EN
TZID:Europe/Paris
X-WR-TIMEZONE:Europe/Paris
BEGIN:VEVENT
UID:257@somme.fr
DTSTART;TZID=Europe/Paris:20260904T210000
DTEND;TZID=Europe/Paris:20260904T221500
DTSTAMP:20260310T153859Z
URL:https://www.somme.fr/events/cine-ens-long/
SUMMARY:Ciné plein air ENS Long
DESCRIPTION:\n\n\n\n\n\n\n\n\n\n\n\n\n\n\n\n\n\n\n\n\n\n\n\n\n\n\n\n\n\n\n\
 n\n\n\n\n\n\n\n\n\n\n\nMicrocosmos est un documentaire français\, réalis
 é par Claude Nuridsany et Marie Pérennou\, qui explore le monde des inse
 ctes et des petites créatures vivant au ras du sol. Grâce à des techniq
 ues de macrophotographie inédites\, le film révèle un univers invisible
  à l’œil nu et invite à un voyage sur terre à l’échelle du centim
 ètre. Sans narration ni dialogues\, l’histoire est portée par les imag
 es et la musique.\nLe documentaire suit le cycle d’une journée et d’u
 ne saison dans une prairie au cours desquelles les insectes y sont filmés
  comme de véritables personnages. Il met en valeur la beauté\, la fragil
 ité\, la complexité de la nature et montre aussi la lutte pour la survie
  dans le monde microscopique. Microcosmos invite le spectateur à changer 
 de regard sur les êtres minuscules. Le Département vous invite à redéc
 ouvrir cette œuvre poétique qui sensibilise au respect de l’environnem
 ent.\nAdresse : Île de Long\, rue du 8 mai\nPublic : familles\nHoraires 
 : à partir de 21h (durée : 1h15)\nAccès sur réservation dans la limite
  des places disponibles\, via le formulaire ci-dessous uniquement.--IMPORT
 ANT : Une fois votre réservation effectuée\, vous recevrez un mail de co
 nfirmation\, à présenter sur place pour accéder au site.--En cas d'annu
 lation/modification de la réservation : merci de répondre au mail de con
 firmation reçu.Pour toute question : contact@somme.fr\n&nbsp\;
ATTACH;FMTTYPE=image/jpeg:https://www.somme.fr/wp-content/uploads/SITE-INT
 ERNET/Actualite/microcosme.jpg
CATEGORIES:Saison culturelle
LOCATION:Ile de Long\, Rue du 8 mai\, Long\, 80510\, France
X-APPLE-STRUCTURED-LOCATION;VALUE=URI;X-ADDRESS=Rue du 8 mai\, Long\, 80510
 \, France;X-APPLE-RADIUS=100;X-TITLE=Ile de Long:geo:0,0
END:VEVENT
BEGIN:VTIMEZONE
TZID:Europe/Paris
X-LIC-LOCATION:Europe/Paris
BEGIN:DAYLIGHT
DTSTART:20260329T030000
TZOFFSETFROM:+0100
TZOFFSETTO:+0200
TZNAME:CEST
END:DAYLIGHT
END:VTIMEZONE
END:VCALENDAR