BEGIN:VCALENDAR
VERSION:2.0
PRODID:-//wp-events-plugin.com//6.6.3//EN
TZID:Europe/Paris
X-WR-TIMEZONE:Europe/Paris
BEGIN:VEVENT
UID:128@somme.fr
DTSTART;TZID=Europe/Paris:20260329T103000
DTEND;TZID=Europe/Paris:20260329T183000
DTSTAMP:20260305T143326Z
URL:https://www.somme.fr/events/chateau-de-bouillancourt-en-sery/
SUMMARY:Exposition au Château de Bouillancourt-en-Séry
DESCRIPTION:\n\n\n\n\n\n\n\n\n\n\n\n\n\n\n\n\n\n\n\n\n\n\n\n\n\n\n\n\n\n\n\
 n\n\n\n\n\n\n\n\n\n\n\nL’art s’invite au château!Le Château de Bouil
 lancourt-en-Séry vous invite à un week-end entre art\, histoire et parta
 ge.Tour à tour forteresse médiévale\, résidence seigneuriale\, pavillo
 n de chasse et tiers-lieu depuis 2020\, le château est un véritable tém
 oin des époques\, transformé au fil de l’Histoire.Lors du Printemps du
  Département 2026\, recréons ensemble ce patrimoine vivant.Venez à la r
 encontre d'artistes en découvrant leurs œuvres au dédale des pièces du
  château. Peintures\, dessins et installations investissent l’ensemble 
 du château\, au fil des salles et des couloirs\, laissez-vous surprendre 
 par une déambulation artistique où chaque espace révèle une nouvelle s
 ensibilité\, une nouvelle émotion.\nRéinventez Bouillancourt autour d'u
 ne fresque collaborative.\nInitiez-vous à l’art lors d'ateliers créati
 fs tout public (enfants et adultes) :\nAtelier 1 : La baie des impressionn
 istes - de 11h à 12h30Découvrez les peintres impressionnistes qui ont ca
 pté la lumière et les paysages de la Baie de Somme\, puis laissez-vous g
 uider par vos pinceaux pour créer votre propre interprétation du paysage
 .Atelier 2 : Mémoire des paysages gravés - de 14h à 15h30Essayez-vous 
 à la gravure en vous inspirant des paysages emblématiques de la Baie de 
 Somme.\nAtelier 3 : Le château voyage dans le temps - de 16h à 17h30À p
 artir d’un château fort médiéval\, explorez l’histoire de l’archi
 tecture et créez votre Bouillancourt du futur.Vous pourrez prolonger l’
 expérience dans une ambiance conviviale et musicale au bar\, autour de bo
 issons et collations.\nAdresse : 6 grande rue\, 80220\, Bouillancourt-en-
 Séry\nPublic : familles\nHoraires : 10h30-18h\nSite internet : chateaudeb
 ouillancourt.com\nVisite libre du château. Réservation conseillée pour 
 les ateliers créatifs\, par mail à julie@chateaudebouillancourt.com\n&nb
 sp\;
ATTACH;FMTTYPE=image/jpeg:https://www.somme.fr/wp-content/uploads/SITE-INT
 ERNET/Actualite/705ace59-393d-434b-be1e-16e81b7d.jpg
CATEGORIES:Châteaux,Printemps du Département
LOCATION:Château de Bouillancourt\, 6 grande rue\, Bouillancourt-en-Séry\
 , 80220\, France
X-APPLE-STRUCTURED-LOCATION;VALUE=URI;X-ADDRESS=6 grande rue\, Bouillancour
 t-en-Séry\, 80220\, France;X-APPLE-RADIUS=100;X-TITLE=Château de Bouilla
 ncourt:geo:0,0
END:VEVENT
BEGIN:VTIMEZONE
TZID:Europe/Paris
X-LIC-LOCATION:Europe/Paris
BEGIN:DAYLIGHT
DTSTART:20260329T030000
TZOFFSETFROM:+0100
TZOFFSETTO:+0200
TZNAME:CEST
END:DAYLIGHT
END:VTIMEZONE
END:VCALENDAR