BEGIN:VCALENDAR
VERSION:2.0
PRODID:-//wp-events-plugin.com//6.6.3//EN
TZID:Europe/Paris
X-WR-TIMEZONE:Europe/Paris
BEGIN:VEVENT
UID:142@somme.fr
DTSTART;TZID=Europe/Paris:20260329T093000
DTEND;TZID=Europe/Paris:20260329T180000
DTSTAMP:20260306T094911Z
URL:https://www.somme.fr/events/chapelle-du-souvenir-francais/
SUMMARY:Chapelle du Souvenir français
DESCRIPTION:\n\n\n\n\n\n\n\n\n\n\n\n\n\n\n\n\n\n\n\n\n\n\n\n\n\n\n\n\n\n\n\
 n\n\n\n\n\n\n\n\n\n\n\nPhotos : © Souvenir Français\nClassée Monument H
 istorique\, la chapelle du Souvenir Français est un monument votif érig
 é de 1920 à 1922 en mémoire des combattants français tombés pendant l
 a Bataille de la Somme. Ses murs abritent des plaques nominatives commémo
 ratives commandées par les familles endeuillées\, sur lesquelles veille 
 un imposant vitrail évoquant les soldats français morts dans l'est de la
  Somme en 1916. Haut-lieu de mémoire de la bataille de la Somme\, la chap
 elle est entourée des trois cimetières militaires : français\, allemand
  et britannique\, qui témoignent de la violence des combats des trois der
 niers mois de la bataille.\nDans le cadre du Printemps du Département\, d
 es visites commentées sont mises en place (à 11h et 15h\, durée 1h30). 
 Notre médiatrice vous emmènera à la découverte de la chapelle-mémoria
 l dédiée aux soldats français tombés pendant les batailles de la Somme
 . L’histoire de quelques-uns de ces soldats\, souvent très jeunes\, vou
 s plongera dans les trois derniers mois de la bataille de la Somme côté 
 français. Vous découvrirez aussi\, grâce au Centre d’interprétation 
 des religions dans la Grande Guerre\, le rôle et l’évolution de chacun
 e pendant ce conflit. Ce temps d’échange permettra d’aborder aussi la
  reconstruction de ce territoire ravagé et de retrouver le parcours d'un 
 aïeul tombé pendant la Première Guerre pour les visiteurs qui le souhai
 tent.\nAdresse : La Chapelle du Souvenir Français\, 2 route nationale\, 8
 0200 BOUCHAVESNES-BERGEN\nPublic : familles\nHoraires : Visite libre 9h30-
 12h30 / 14h00-18h00. Visites commentées à 11h et 15h (durée : 1h30).\nA
 ccessibilité : PMR\nSite web : le-souvenir-francais.fr\nAccès libre. 
 Visites commentées sur réservation dans la limite des places disponibles
 \, via le formulaire ci-dessous uniquement.--IMPORTANT : Une fois votre r
 éservation effectuée\, vous recevrez un mail de confirmation\, à prése
 nter sur place pour accéder au site.--En cas d'annulation/modification de
  la réservation : merci de répondre au mail de confirmation reçu.Pour t
 oute question : contact@somme.fr\n&nbsp\;
ATTACH;FMTTYPE=image/jpeg:https://www.somme.fr/wp-content/uploads/SITE-INT
 ERNET/Actualite/web20240711_102307.jpg
CATEGORIES:Grande Guerre,Printemps du Département
LOCATION:Chapelle du Souvenir français\, RD 1017\, Bouchavesnes-Bergen\, 8
 0200\, France
X-APPLE-STRUCTURED-LOCATION;VALUE=URI;X-ADDRESS=RD 1017\, Bouchavesnes-Berg
 en\, 80200\, France;X-APPLE-RADIUS=100;X-TITLE=Chapelle du Souvenir franç
 ais:geo:0,0
END:VEVENT
BEGIN:VTIMEZONE
TZID:Europe/Paris
X-LIC-LOCATION:Europe/Paris
BEGIN:DAYLIGHT
DTSTART:20260329T030000
TZOFFSETFROM:+0100
TZOFFSETTO:+0200
TZNAME:CEST
END:DAYLIGHT
END:VTIMEZONE
END:VCALENDAR